BEGIN:VCALENDAR
VERSION:2.0
PRODID:-//Alphanetz NRW - ECPv6.15.13//NONSGML v1.0//EN
CALSCALE:GREGORIAN
METHOD:PUBLISH
X-WR-CALNAME:Alphanetz NRW
X-ORIGINAL-URL:https://alphanetz-nrw.de
X-WR-CALDESC:Veranstaltungen für Alphanetz NRW
REFRESH-INTERVAL;VALUE=DURATION:PT1H
X-Robots-Tag:noindex
X-PUBLISHED-TTL:PT1H
BEGIN:VTIMEZONE
TZID:Europe/Berlin
BEGIN:DAYLIGHT
TZOFFSETFROM:+0100
TZOFFSETTO:+0200
TZNAME:CEST
DTSTART:20190331T010000
END:DAYLIGHT
BEGIN:STANDARD
TZOFFSETFROM:+0200
TZOFFSETTO:+0100
TZNAME:CET
DTSTART:20191027T010000
END:STANDARD
BEGIN:DAYLIGHT
TZOFFSETFROM:+0100
TZOFFSETTO:+0200
TZNAME:CEST
DTSTART:20200329T010000
END:DAYLIGHT
BEGIN:STANDARD
TZOFFSETFROM:+0200
TZOFFSETTO:+0100
TZNAME:CET
DTSTART:20201025T010000
END:STANDARD
BEGIN:DAYLIGHT
TZOFFSETFROM:+0100
TZOFFSETTO:+0200
TZNAME:CEST
DTSTART:20210328T010000
END:DAYLIGHT
BEGIN:STANDARD
TZOFFSETFROM:+0200
TZOFFSETTO:+0100
TZNAME:CET
DTSTART:20211031T010000
END:STANDARD
END:VTIMEZONE
BEGIN:VEVENT
DTSTART;TZID=Europe/Berlin:20201007T103000
DTEND;TZID=Europe/Berlin:20201007T120000
DTSTAMP:20260423T150807
CREATED:20200922T123248Z
LAST-MODIFIED:20201022T124711Z
UID:3680-1602066600-1602072000@alphanetz-nrw.de
SUMMARY:Seminarreihe - "Ehrenamtliche Einsatzfelder in Alphabetisierung und Grundbildung" (Herbst 2020)
DESCRIPTION:Seminar 2: Ehrenamtliche als Weiterbildungslotsen \n\n\n\nHier finden Sie weitere Informationen.
URL:https://alphanetz-nrw.de/veranstaltung/seminarreihe-ehrenamtliche-einsatzfelder-in-alphabetisierung-und-grundbildung-herbst-2020-2/
CATEGORIES:Fortbildungen
END:VEVENT
BEGIN:VEVENT
DTSTART;TZID=Europe/Berlin:20201028T103000
DTEND;TZID=Europe/Berlin:20201028T120000
DTSTAMP:20260423T150807
CREATED:20200922T123402Z
LAST-MODIFIED:20201022T124317Z
UID:3682-1603881000-1603886400@alphanetz-nrw.de
SUMMARY:Seminarreihe - "Ehrenamtliche Einsatzfelder in Alphabetisierung und Grundbildung" (Herbst 2020)
DESCRIPTION:Seminar 3: Praxisbeispiel „Miteinander lernen“ \nEhrenamtliche Lernbegleiter*innen für Erwachsene  \n\n\n\nHier finden Sie weitere Informationen.
URL:https://alphanetz-nrw.de/veranstaltung/seminarreihe-ehrenamtliche-einsatzfelder-in-alphabetisierung-und-grundbildung-herbst-2020-3/
CATEGORIES:Fortbildungen
END:VEVENT
END:VCALENDAR