BEGIN:VCALENDAR
VERSION:2.0
PRODID:-//Alphanetz NRW - ECPv6.15.13//NONSGML v1.0//EN
CALSCALE:GREGORIAN
METHOD:PUBLISH
X-ORIGINAL-URL:https://alphanetz-nrw.de
X-WR-CALDESC:Veranstaltungen für Alphanetz NRW
REFRESH-INTERVAL;VALUE=DURATION:PT1H
X-Robots-Tag:noindex
X-PUBLISHED-TTL:PT1H
BEGIN:VTIMEZONE
TZID:Europe/Berlin
BEGIN:DAYLIGHT
TZOFFSETFROM:+0100
TZOFFSETTO:+0200
TZNAME:CEST
DTSTART:20200329T010000
END:DAYLIGHT
BEGIN:STANDARD
TZOFFSETFROM:+0200
TZOFFSETTO:+0100
TZNAME:CET
DTSTART:20201025T010000
END:STANDARD
BEGIN:DAYLIGHT
TZOFFSETFROM:+0100
TZOFFSETTO:+0200
TZNAME:CEST
DTSTART:20210328T010000
END:DAYLIGHT
BEGIN:STANDARD
TZOFFSETFROM:+0200
TZOFFSETTO:+0100
TZNAME:CET
DTSTART:20211031T010000
END:STANDARD
BEGIN:DAYLIGHT
TZOFFSETFROM:+0100
TZOFFSETTO:+0200
TZNAME:CEST
DTSTART:20220327T010000
END:DAYLIGHT
BEGIN:STANDARD
TZOFFSETFROM:+0200
TZOFFSETTO:+0100
TZNAME:CET
DTSTART:20221030T010000
END:STANDARD
END:VTIMEZONE
BEGIN:VEVENT
DTSTART;TZID=Europe/Berlin:20210503T093000
DTEND;TZID=Europe/Berlin:20210503T153000
DTSTAMP:20260424T023100
CREATED:20210225T133445Z
LAST-MODIFIED:20210712T085601Z
UID:4860-1620034200-1620055800@alphanetz-nrw.de
SUMMARY:Sensibilisierungsschulung: Funktionalen Analphabetismus in der Elternarbeit erkennen und handeln
DESCRIPTION:06.09.2021\, 9:30 bis 15:30 Uhr\, vhs Duisburg  \nIn der Arbeit mit Kindern und Schüler*innen sind die Erziehungsberechtigten wichtige Partner. Viele Eltern – etwa 12% der Erwachsenen (LEO-Studie 2018) – können so wenig lesen und schreiben\, dass sie wichtige Mitteilungen kaum verstehen oder adäquat darauf reagieren können. Das ist vielen nicht bekannt\, denn geringe Literalität ist ein in der Gesellschaft tabuisiertes Problem. Betroffene entwickeln meist Strategien\, um ihre Defizite zu verbergen\, z.B. delegieren Sie oftmals alles Schriftliche an andere Personen.Wie erkenne ich Eltern mit Schwierigkeiten beim Lesen und Schreiben? Wie kann ich sie professionell und sensibel ansprechen\, helfen und unterstützen? Was bedeutet es für meine Arbeit mit dem Kind und was sollte ich wissen und berücksichtigen\, wenn ein Elternteil betroffen ist? Welche Möglichkeiten gibt es\, im Erwachsenenalter Lesen und Schreiben zu lernen?In dieser Fortbildung befassen Sie sich mit den theoretischen Grundlagen geringer Literalität. Sie erproben konkrete Handlungsstrategien und lernen durch Vereinfachungen der mündlichen und schriftlichen Sprache\, die Verständigung mit Eltern zu verbessern.Die Fortbildung richtet sich an Personen in pädagogischen Berufen\, die sich erstmalig mit geringer Literalität und Alphabetisierung beschäftigen oder ihre Kenntnisse auffrischen wollen.Die Fortbildung wird vom alphanetz NRW finanziert.Die TN-Plätze sind begrenzt\, eine verbindliche Anmeldung ist erforderlich.Weitere Informationen: Eva Wortmann 0203 283 6208  \nAnmeldung unter folgendem Link: HIER. \n			     Sie sehen gerade einen Platzhalterinhalt von Google Maps. Um auf den eigentlichen Inhalt zuzugreifen\, klicken Sie auf die Schaltfläche unten. Bitte beachten Sie\, dass dabei Daten an Drittanbieter weitergegeben werden.  Mehr Informationen   Inhalt entsperren Erforderlichen Service akzeptieren und Inhalte entsperren
URL:https://alphanetz-nrw.de/veranstaltung/sensibilisierungsschulung-funktionalen-analphabetismus-in-der-elternarbeit-erkennen-und-handeln/
LOCATION:vhs Duisburg
CATEGORIES:Sensibilisierungsschulungen
END:VEVENT
BEGIN:VEVENT
DTSTART;TZID=Europe/Berlin:20210507T100000
DTEND;TZID=Europe/Berlin:20210508T180000
DTSTAMP:20260424T023100
CREATED:20210209T085508Z
LAST-MODIFIED:20210420T124530Z
UID:4781-1620381600-1620496800@alphanetz-nrw.de
SUMMARY:Einführung in die Alphabetisierungsarbeit - ABGESAGT
DESCRIPTION:Alle Kurstermine:Die Teilnahme an nur einem Wochenende ist leider nicht möglich.1. Fr. 23.04.2021\, 10:00–18:00 Uhr2. Sa. 24.04.2021\, 10:00–18:00 Uhr3. Fr. 07.05.2021\, 10:00–18:00 Uhr4. Sa. 08.05.2021\, 10:00–18:00 Uhr \n\n\n\nLeitung: Peter Hubertus  \n\n\n\nWeitere Informationen hier.
URL:https://alphanetz-nrw.de/veranstaltung/4781/
LOCATION:vhs Münster\, Aegidiimarkt 2-3\, 48143 Münster Raum 201
CATEGORIES:Fortbildungen
END:VEVENT
END:VCALENDAR