BEGIN:VCALENDAR
VERSION:2.0
PRODID:-//Alphanetz NRW - ECPv6.15.13//NONSGML v1.0//EN
CALSCALE:GREGORIAN
METHOD:PUBLISH
X-ORIGINAL-URL:https://alphanetz-nrw.de
X-WR-CALDESC:Veranstaltungen für Alphanetz NRW
REFRESH-INTERVAL;VALUE=DURATION:PT1H
X-Robots-Tag:noindex
X-PUBLISHED-TTL:PT1H
BEGIN:VTIMEZONE
TZID:Europe/Berlin
BEGIN:DAYLIGHT
TZOFFSETFROM:+0100
TZOFFSETTO:+0200
TZNAME:CEST
DTSTART:20240331T010000
END:DAYLIGHT
BEGIN:STANDARD
TZOFFSETFROM:+0200
TZOFFSETTO:+0100
TZNAME:CET
DTSTART:20241027T010000
END:STANDARD
BEGIN:DAYLIGHT
TZOFFSETFROM:+0100
TZOFFSETTO:+0200
TZNAME:CEST
DTSTART:20250330T010000
END:DAYLIGHT
BEGIN:STANDARD
TZOFFSETFROM:+0200
TZOFFSETTO:+0100
TZNAME:CET
DTSTART:20251026T010000
END:STANDARD
BEGIN:DAYLIGHT
TZOFFSETFROM:+0100
TZOFFSETTO:+0200
TZNAME:CEST
DTSTART:20260329T010000
END:DAYLIGHT
BEGIN:STANDARD
TZOFFSETFROM:+0200
TZOFFSETTO:+0100
TZNAME:CET
DTSTART:20261025T010000
END:STANDARD
END:VTIMEZONE
BEGIN:VEVENT
DTSTART;TZID=Europe/Berlin:20250506T100000
DTEND;TZID=Europe/Berlin:20250506T121500
DTSTAMP:20260423T183607
CREATED:20250415T082752Z
LAST-MODIFIED:20250415T082752Z
UID:9618-1746525600-1746533700@alphanetz-nrw.de
SUMMARY:Schulung „Netzwerk- und Öffentlichkeitsarbeit“
DESCRIPTION:​Erfahren Sie\, welche Faktoren zum Gelingen ehrenamtlicher Grundbildungsarbeit beitragen und wie Sie sie ​für den Erfolg Ihrer Organisation umsetzen können. \n\n\n\nDatum:  06.05.2025\, 10:00 bis 12:15 Uhr\n\n\nProjekte\n vhs-Ehrenamtsportal / NEfE\nAkteure\n Deutscher Volkshochschul-Verband e. V. (DVV)\n\nWelche Partner eignen sich vor Ort für eine Zusammenarbeit? Wie kann die Zusammenarbeit effektiv gestaltet und gefördert werden? Viele Fragen und Antworten erhalten Sie in der kostenlosen Online-Schulung des vhs-Ehrenamtsportals. Impulse und Austauschmöglichkeiten zur Stärkung Ihrer Kooperationen und Netzwerke stehen dabei im Mittelpunkt. \nWo?\nOnline \nFür Wen?\nDie Schulung adressiert Ehrenamtskoordinatorinnen und Ehrenamtskoordinatoren sowie Interessierte. \nAnmeldung\nDie Anmeldung ist über folgende Website möglich. \nVeranstalter\nvhs-Ehrenamtsportal \nKontakt\n  \nE-Mail: Aurora Distefano \n  \nTel.: 0228 / 97569-440
URL:https://alphanetz-nrw.de/veranstaltung/schulung-netzwerk-und-oeffentlichkeitsarbeit-2/
CATEGORIES:Schulung/Seminar
END:VEVENT
BEGIN:VEVENT
DTSTART;TZID=Europe/Berlin:20250507T093000
DTEND;TZID=Europe/Berlin:20250507T170000
DTSTAMP:20260423T183607
CREATED:20250129T141115Z
LAST-MODIFIED:20250327T114421Z
UID:9357-1746610200-1746637200@alphanetz-nrw.de
SUMMARY:Workshop - Stärkung der Projektfähigkeit der Alphanetz-Mitglieder
DESCRIPTION:Projekte und Projektarbeit haben sich in fast allen Arbeitskontexten durchgesetzt und bilden inzwischen eine verbreitete\, moderne und strukturierte Form zur Umsetzung sowohl innovativer als auch bewährter Ideen. \nIn der Weiterbildungslandschaft existieren unterschiedliche Fördermöglichkeiten für Bildungsangebote mit vielfältigen Inhalten\, Formaten und Adressat*innen. So vielfältig wie die Förderungen sind\, so divers und komplex sind mitunter die Anforderungen für Projekte und ihre Umsetzung. Als Serviceangebot bietet die Koordinierungsstelle des Alphanetz NRW im Mai einen Workshop mit dem Titel „Stärkung der Projektfähigkeit“ in Präsenz an. Der Workshop findet am 07. Mai 2025\, von 09:30 bis 16:15 Uhr\, im DGB Haus in Düsseldorf statt. \nDieser Workshop bietet einen praxisorientierten Einstieg in die wichtigsten Aspekte des Projektmanagements. Der theoretische Input umfasst neben den Grundlagen verstärkt die einzelnen Prozesse der erfolgreichen Planung\, Durchführung und des Abschlusses von Projekten. Die Workshopinhalte werden anhand von einigen konkreten Förderlinien\, die für den Bereich der Alphabetisierung und Grundbildung relevant sind\, exemplarisch dargestellt. Hierzu gehören ESF\, Maßnahmen für regionale Bildungsentwicklung (WbG § 13a)\, Innovationsfonds (WbG § 19) und die Entwicklungspauschale (WbG § 18). \nAngestrebt wird eine möglichst praxisorientierte Vermittlung von Basiswissen\, das in die eigene Arbeit übertragen werden kann. Im zweiten Teil des Workshops werden im Rahmen einer Gruppenarbeit einzelne Schritte der Projektkonzeption und ihre Rahmenbedingungen ebenfalls entlang der genannten Förderlinien erarbeitet. \nDiese Ideen können auf Wunsch in einem online Follow-Up zur Präsenzveranstaltung zur Vorbereitung auf einen eigenen Projektantrag gemeinsam besprochen und konkretisiert werden. Eine Einladung mit Anmeldelink zum Follow-Up wird Ende Mai an die Teilnehmenden versendet. \nDieses Angebot richtet sich vorrangig an Mitglieder\, die Projektvorhaben umsetzen möchten. Die max. Teilnehmendenzahl ist auf 25 Personen begrenzt. Die Teilnahme ist kostenlos und ein Mittagsimbiss ist inkludiert. \n  \nDatum: 07.05.2025 \nZeit: 9:30 – 16:30 Uhr \nOrt: DGB Haus \nFriedrich-Ebert-Str. 34-38 \n40210 Düsseldorf \n  \n 
URL:https://alphanetz-nrw.de/veranstaltung/workshop-staerkung-der-projektfaehigkeit-der-alphanetz-mitglieder/
CATEGORIES:Workshop
END:VEVENT
BEGIN:VEVENT
DTSTART;TZID=Europe/Berlin:20250507T100000
DTEND;TZID=Europe/Berlin:20250507T121500
DTSTAMP:20260423T183607
CREATED:20250415T082926Z
LAST-MODIFIED:20250415T082926Z
UID:9620-1746612000-1746620100@alphanetz-nrw.de
SUMMARY:Resilienz im Ehrenamt
DESCRIPTION:Sicherlich sind auch Sie im Ehrenamt schon an Ihre Grenzen gekommen\, fühlten sich überfordert und gestresst. Viele Menschen\, die sich ehrenamtlich engagieren\, sind mit emotionalen Belastungen\, Konflikten oder Zeitdruck konfrontiert. Hinzu kommt: Wer sich intensiv für andere einsetzt\, vernachlässigt bisweilen die eigenen Bedürfnisse. \n\n\n\nDatum:  07.05.2025\, 10:00 bis 12:15 Uhr\n\n\nProjekte\n vhs-Ehrenamtsportal / NEfE\nAkteure\n Deutscher Volkshochschul-Verband e. V. (DVV)\n\nDiese neue Online-Schulung beschäftigt sich intensiv mit Resilienz und Selbstfürsorge. Die Schulung zeigt\, wie man widestandsfähiger wird\, was beim Umgang mit Stress hilft und warum es wichtig ist\, die eigene Rolle zu klären. \nDie Online-Schulung ist kostenfrei. \nWo?\nOnline \nWeitere Informationen und Anmeldung\nWeitere Informationen zur Veranstaltung und das Anmeldeformular finden Sie hier. \nDie Online-Schulung ist kostenlos. \nVeranstalter\nvhs-Ehrenamtsportal \nKontakt\n  \nE-Mail: Aurora Distefano \n  \nTel.: 0228 – 975 69 – 440
URL:https://alphanetz-nrw.de/veranstaltung/resilienz-im-ehrenamt/
CATEGORIES:Schulung/Seminar
END:VEVENT
BEGIN:VEVENT
DTSTART;TZID=Europe/Berlin:20250513T100000
DTEND;TZID=Europe/Berlin:20250513T113000
DTSTAMP:20260423T183607
CREATED:20250129T135855Z
LAST-MODIFIED:20250130T073453Z
UID:9349-1747130400-1747135800@alphanetz-nrw.de
SUMMARY:Offener Online-Austausch I Alphanetz-Talk
DESCRIPTION:13. Mai I von 10:00 bis 11:30 Uhr \n\nEine Anmeldung ist nicht erforderlich. \nDas Format bietet Ihnen die Gelegenheit\, sich zu aktuellen Themen auszutauschen. Grundsätzlich sind alle Teilnehmenden eingeladen Ihre Themen in  der Runde zu platzieren\, Fragen und Bedarfe zu diskutieren sowie gute Praxis zu teilen Sofern mehrere Teilnehmende zu einem spezifischen Thema/Anliegen sich besprechen möchten\, es besteht die Möglichkeit Breakout-Räume einzurichten. Moderiert werden die Talkrunden von der Koordinierungsstelle. \n  \n 
URL:https://alphanetz-nrw.de/veranstaltung/offener-online-austausch-i-alphanetz-talk-i-1-halbjahr-2025/
CATEGORIES:Fachveranstaltungen
END:VEVENT
BEGIN:VEVENT
DTSTART;TZID=Europe/Berlin:20250513T160000
DTEND;TZID=Europe/Berlin:20250513T163000
DTSTAMP:20260423T183607
CREATED:20250415T084807Z
LAST-MODIFIED:20250415T084807Z
UID:9641-1747152000-1747153800@alphanetz-nrw.de
SUMMARY:Suche Menü links Schreiben und Lesen in Hotel und Gastronomie
DESCRIPTION:Mehr Infos\nInhalt\nGäste empfangen\, Reservierungen entgegennehmen\, Räume herrichten\, Speisen zubereiten und Veranstaltungen organisieren – die Aufgaben in Hotel und Gastronomie sind vielfältig und oft erfordern sie Lese- und Schreibkompetenzen. Mit dem digitalen Schreib- und Lesetraining für das Hotel- und Gastgewerbe im vhs-Lernportal können die Lernenden das Lesen und Verstehen von Vorschriften\, Plänen und Merkblättern trainieren. Sie üben berufsspezifische Checklisten und Formulare\, wie Reservierungs- oder Übergabeformulare\, selbständig auszufüllen und anhand von Textbausteinen kurze Anschreiben zu verfassen. \nDas Lernen erfolgt handlungsorientiert anhand von szenisch aufbereiteten\, typischen Arbeitssituationen und -aufgaben. In der Kurz-Schulung lernen Sie die wichtigsten Funktionen des digitalen Trainings kennen. \n\n\nUmfang\n30 Minuten \n\n\nTechnik\nWir empfehlen für die Schulungsteilnahme\, ein Headset oder Kopfhörer zu tragen und die Browser Chrome oder Mozilla Firefox zu nutzen\, da diese die Webseminar-Software edudip am besten unterstützen. \n\n\nZur Anmeldung\nDie Schulung wird als Webseminar durchgeführt. \nHier gehts zur Anmeldung! \n\n\nOrganisatorisches\nSie erhalten nach der Anmeldung einen Link\, mit dem Sie dem Webseminar beitreten können. Betreten Sie am Veranstaltungstag den Webseminarraum ein paar Minuten vor Schulungsbeginn. Sie durchlaufen dann zunächst einen kurzen Systemcheck\, der ein paar Minuten in Anspruch nehmen kann.\nAchtung: Bitte nutzen Sie bei der Anmeldung nicht Ihre vhs.cloud-Mailadresse\, da es sich dabei nur um eine vhs.cloud-interne Mailadresse handelt und externe Mails diese Mailadresse nicht erreichen.
URL:https://alphanetz-nrw.de/veranstaltung/suche-menue-links-schreiben-und-lesen-in-hotel-und-gastronomie-2/
CATEGORIES:Schulung/Seminar
END:VEVENT
BEGIN:VEVENT
DTSTART;TZID=Europe/Berlin:20250516T100000
DTEND;TZID=Europe/Berlin:20250516T100000
DTSTAMP:20260423T183607
CREATED:20250311T132632Z
LAST-MODIFIED:20250311T134008Z
UID:9513-1747389600-1747389600@alphanetz-nrw.de
SUMMARY:„Türöffner Grundbildung“ – Lebenswelt- und Sozialraumorientierung
DESCRIPTION:Grundbildung umfasst grundlegende Fähigkeiten und Kenntnisse\, die die Gestaltung des eigenen Lebens und die Teilhabe an Gesellschaft beeinflussen. Dabei kann es sich um die Verbesserung der Lese- und Schreibfähigkeiten handeln\, aber auch um eine Vielzahl anderer Kompetenzen\, die im Alltag benötigt werden. \nGrundbildung kann Türen öffnen\, nicht nur für die Menschen mit Grundbildungsbedarfen\, sondern auch auf Seiten der pädagogisch Tätigen und der Einrichtungen. \nZiel der Online-Fortbildung ist es\, mit dem Fokus Grundbildung das eigene pädagogische Handeln weiterzuentwickeln\, dabei unterschiedliche Lebenswelten und Sozialräume in den Blick zu nehmen und Angebote innerhalb und außerhalb der eigenen Einrichtung auszuloten. \n  \nEs gibt unterschiedliche Barrieren\, die Menschen daran hindern\, Einrichtungen oder Angebote zu besuchen\, obwohl diese formal allen offen stehen. Ist hier Platz für Grundbildungsbedarfe\, die häufig noch tabuisiert werden oder mit Scham besetzt sind? Die Online-Veranstaltung „Lebenswelt- und Sozialraumorientierung“ betrachtet einen Teil der Angebotsentwicklung im Feld der Grundbildung: Die Ansprache und Beteiligung unterschiedlicher Zielgruppen\, ausgehend von den sozialen Orten der Adressat*innen und Teilnehmer*innen. Ziel ist es\, Grundlagen lebenswelt- und sozialraumorientierter Bildungsarbeit im Feld der Grundbildung kennenzulernen und Strategien zu entwickeln\, die konkreten Sozialräume vor Ort zu erkunden\, Kooperationen zu erschließen und vielfältige Lebenswelten besser zu verstehen und diese in Ihre Angebotsplanung einzubeziehen. \n  \nDie Veranstaltung ist Teil der Fortbildung „Türöffner Grundbildung“\, die von der Evangelischen Fachstelle Grundbildung und Alphabetisierung (GrubA) und der Akademie für Kirche und Diakonie gemeinsam entwickelt und durchgeführt wird. Weitere Themen und Termine finden Sie hier: www.grundbildung-evangelisch.de. \nDie Veranstaltungsreihe wird im Rahmen des Projekts GrubA (Förderkennzeichen 2101ALWT) und der „Nationalen Dekade für Alphabetisierung und Grundbildung 2016 – 2026“ mit Mitteln des Bundesministeriums für Bildung und Forschung gefördert und ist für die Teilnehmer*innen kostenfrei. \nHinweis zu weiteren Veranstaltungen: \nDie Fortbildung besteht aus drei Online-Veranstaltungen. Die erste Veranstaltung „Ein neuer Blick auf die (eigene) Praxis“ soll regulär von allen Teilnehmenden besucht werden\, um darauf aufbauend an einer oder zwei weiteren Veranstaltungen teilzunehmen; „Lebenswelt- und Sozialraumorientierung“ und/oder „Die Einrichtungsperspektive“. \n\n\nSchwerpunkte\n\nSensibilisierung für die Ansprache und Begleitung unterschiedlicher Zielgruppen\nReflexion und Weiterentwicklung des eigenen pädagogischen (Grundbildungs-)Handelns\nAngebotsentwicklung im Themenfeld Grundbildung: lebensweltorientiert und einrichtungsbezogen\n\n\n\nZielgruppe\nPädagogisch Verantwortliche in Einrichtungen der kirchlichen Erwachsenen- und Familienbildung und in Einrichtungen der Diakonie\, Honorarkräfte und Ehrenamtliche mit Interesse am Themenfeld Grundbildung \n\n\nMethoden\n\nKleingruppenarbeit\nFallorientiertes Arbeiten\nKurzvorträge der Referent:innen\nTransfer- und Reflexionsaufgaben\nKollaborative Zusammenarbeit\n\n\n\nErgebnisse\nSie \n\nsind sensibilisiert für das Themenfeld Grundbildung\nhaben Ihr eigenes pädagogisches Handeln reflektiert\nhaben das pädagogische Handeln Ihrer Einrichtung reflektiert\nhaben Anregungen für sozialräumliches und lebensweltorientiertes Arbeiten erhalten und ausprobiert\nhaben Anregungen für die (Weiter-)Entwicklung grundbildungsrelevanter Angebote erhalten und ausprobiert\n\n\n\nTermine\n16. Mai 2025 | 10:00 – 13:00 \n\n\nDozierende\nNejra Dedić-Demirović\n\n\nIn Kooperation\nEvangelische Fachstelle Grundbildung und Alphabetisierung (GrubA)\n\n\nmax. 20 Teilnehmende\nPädagogisch Verantwortliche in Einrichtungen der kirchlichen Erwachsenen- und Familienbildung und in Einrichtungen der Diakonie\, Honorarkräfte und Ehrenamtliche mit Interesse am Themenfeld Grundbildung\n0\,00 EUR\n Online-Veranstaltung\n VA-Nr.: 452819\nJetzt anmelden
URL:https://alphanetz-nrw.de/veranstaltung/tueroeffner-grundbildung-lebenswelt-und-sozialraumorientierung/
CATEGORIES:Fortbildungen
END:VEVENT
BEGIN:VEVENT
DTSTART;TZID=Europe/Berlin:20250520T100000
DTEND;TZID=Europe/Berlin:20250520T121500
DTSTAMP:20260423T183607
CREATED:20250415T083223Z
LAST-MODIFIED:20250415T083223Z
UID:9622-1747735200-1747743300@alphanetz-nrw.de
SUMMARY:Übungsblätter\, Tipps und Tricks für die Lernbegleitung
DESCRIPTION:Die Suche nach geeigneten Methoden und Übungsblättern für die Lernbegleitung ist aufwendig und mühsam? Wenn Sie Menschen unterstützen\, die ihre Deutsch-\, Lese- und Schreibkompetenzen verbessern möchten\, ist die Schulung des vhs-Ehrenamtsportals genau das Richtige für Sie. Gemeinsam werden Ziele und Herausforderungen der Lernbegleitung im Lerncafé oder im Tandem thematisiert. \n\n\n\nDatum:  20.05.2025\, 10:00 bis 12:15 Uhr\n\n\nProjekte\n vhs-Ehrenamtsportal / NEfE\nAkteure\n Deutscher Volkshochschul-Verband e. V. (DVV)\n\nEin detaillierter Einblick in die Übungsblätter des vhs-Ehrenamtsportals rundet das Angebot ab: Sie lernen\, wie diese aufgebaut sind und welche Themen sie behandeln. Wertvolle Tipps von Expertinnen und Experten sowie spielerische Methoden für Ihre Tätigkeit werden Ihnen ebenfalls an die Hand gegeben. \nWo?\nOnline \nWeitere Informationen und Anmeldung\nWeitere Information zur Veranstaltung und das Anmeldeformular finden Sie hier. \nDie Online-Schulung ist kostenlos. \nVeranstalter\nvhs-Ehrenamtsportal \nKontakt\n  \nE-Mail: Aurora Distefano \n  \nTel.: 0228 – 975 69 – 440
URL:https://alphanetz-nrw.de/veranstaltung/uebungsblaetter-tipps-und-tricks-fuer-die-lernbegleitung-2/
CATEGORIES:Schulung/Seminar
END:VEVENT
BEGIN:VEVENT
DTSTART;TZID=Europe/Berlin:20250520T130000
DTEND;TZID=Europe/Berlin:20250520T133000
DTSTAMP:20260423T183607
CREATED:20250514T160411Z
LAST-MODIFIED:20250514T160411Z
UID:9665-1747746000-1747747800@alphanetz-nrw.de
SUMMARY:Info-Veranstaltungen zum Kennenlernen des Kurses „Rechnen“
DESCRIPTION:Für alle\, die Genaueres über Inhalt und Aufbau des Kurses „Rechnen“ erfahren möchten\, bietet der Deut-sche Volkshochschul-Verband e. V. kurze virtuelle Info-Veranstaltungen an. Die nächsten Termine sind am\n20.05.2025\, 13:00-13:30 Uhr\nAnmeldung unter: https://www.vhs-lernportal.de/4048474.php
URL:https://alphanetz-nrw.de/veranstaltung/info-veranstaltungen-zum-kennenlernen-des-kurses-rechnen/
CATEGORIES:Schulung/Seminar
END:VEVENT
BEGIN:VEVENT
DTSTART;TZID=Europe/Berlin:20250521T130000
DTEND;TZID=Europe/Berlin:20250521T133000
DTSTAMP:20260423T183607
CREATED:20250415T083419Z
LAST-MODIFIED:20250415T083419Z
UID:9624-1747832400-1747834200@alphanetz-nrw.de
SUMMARY:Digitale Welt - kurz erklärt
DESCRIPTION:Von der Bedienung des Smartphones bis zur kritischen Medienreflexion –  in dieser Schulung bekommen Sie einen Überblick über den Aufbau und die Inhalte des Lernangebots „Digitale Welt“ im vhs-Lernportal. \n\n\n\nDatum:  21.05.2025\, 13:00 bis 13:30 Uhr\n\n\nProjekte\n LernPORTAL\n\nDigitale Entwicklung stellt für breite Bevölkerungsschichten eine große Herausforderung dar; dies gilt insbesondere für ältere Menschen und Personen mit geringer formaler Bildung. Das Lernangebot „Digitale Welt“ im vhs-Lernportal bietet passgenaues Lernmaterial\, um diese Zielgruppen zur digitalen Teilhabe zu befähigen. Von der Bedienung von Smartphone und Maus\, über Digitalisierungsthemen wie Künstliche Intelligenz\, Fake News\, bis hin zur kritischen Reflexion der Mediennutzung orientieren sich die Lerninhalte an den Bedürfnissen und am Lebensalltag der Nutzerinnen und Nutzer. In der Schulung lernen Sie die wichtigsten Funktionen und den Aufbau des Lernangebotes kennen und erhalten Tipps für den Einsatz des Kurses in der Praxis. \nWo?\nOnline \nWeitere Informationen\nWeitere Informationen zur Veranstaltung finden Sie hier. \nAnmeldung\nDie Anmeldung ist unter folgendem Link möglich. \nVeranstalter\nvhs-Lernportal
URL:https://alphanetz-nrw.de/veranstaltung/digitale-welt-kurz-erklaert-3/
CATEGORIES:Schulung/Seminar
END:VEVENT
BEGIN:VEVENT
DTSTART;TZID=Europe/Berlin:20250522T150000
DTEND;TZID=Europe/Berlin:20250522T171500
DTSTAMP:20260423T183607
CREATED:20250415T083541Z
LAST-MODIFIED:20250415T083541Z
UID:9626-1747926000-1747934100@alphanetz-nrw.de
SUMMARY:Lesen üben mit dem Lautlesetandem
DESCRIPTION:Sie engagieren sich für Menschen\, die das Lesen und Schreiben im Erwachsenenalter lernen? Sie sind im Lerncafé tätig oder begleiten eine einzelne Person? Wenn Sie Interesse und Spaß an Sprache und Texten haben und eine einfache Methode zum Lesenüben in der Lernbegleitung suchen\, dann sollten Sie das Lautlesetandem kennenlernen. \n\n\n\nDatum:  22.05.2025\, 15:00 bis 17:15 Uhr\n\n\nProjekte\n vhs-Ehrenamtsportal / NEfE\nAkteure\n Deutscher Volkshochschul-Verband e. V. (DVV)\n\nDiese Methode zeichnet aus\, dass Erfolge beim Lesenlernen schnell sichtbar werden und zum Weitermachen motivieren. \nDie kostenlose Online-Schulung des vhs-Ehrenamtsportals vermittelt zunächst Grundlagenwissen: Wie funktioniert das Verstehen von Texten? Warum hängt die Fähigkeit\, flüssig zu lesen\, wesentlich damit zusammen? Wie kann ich flüssiges Lesen fördern? Im Anschluss wird die Lautlesetandem-Methode Schritt für Schritt erklärt. Tipps und Hinweise zur Suche nach passenden Texten für Ihre praktische Arbeit runden die Schulung ab. \nWo?\nOnline \nAnmeldung:\nDie Anmeldung ist unter folgendem Link möglich. \nVeranstalter:\nvhs-Ehrenamtsportal. \nKontakt:\n  \nE-Mail: Aurora Distefano \n  \nTel.: 0228/97569 – 440
URL:https://alphanetz-nrw.de/veranstaltung/lesen-ueben-mit-dem-lautlesetandem-4/
CATEGORIES:Schulung/Seminar
END:VEVENT
BEGIN:VEVENT
DTSTART;TZID=Europe/Berlin:20250526T170000
DTEND;TZID=Europe/Berlin:20250526T180000
DTSTAMP:20260423T183607
CREATED:20250415T083652Z
LAST-MODIFIED:20250415T083652Z
UID:9628-1748278800-1748282400@alphanetz-nrw.de
SUMMARY:Meet the Expert: KI und Datenschutz in der Grundbildung
DESCRIPTION:Wie kann KI sicher in der Grundbildung genutzt werden? Welche Datenschutzaspekte müssen beachtet werden und welche Anwendungen können empfohlen werden? Im Online-Austauschformat Meet the Expert haben Sie die Möglichkeit\, Ihre individuellen Fragen zu diskutieren und wertvolle Praxistipps zu erhalten. \n\n\n\nDatum:  26.05.2025\, 17:00 bis 18:00 Uhr\n\nWo?\nOnline \nWeitere Informationen\nWeitere Informationen finden Sie auf folgender Website: https://wibeg-online.de/angebot \nAnmeldung\nEine Anmeldung ist über folgendes Formular möglich. \nVeranstalter\nWiBeG (Wissenschaftliche Beratungs- u. Weiterbildungsstelle zur Professionalisierung in der Grundbildung).
URL:https://alphanetz-nrw.de/veranstaltung/meet-the-expert-ki-und-datenschutz-in-der-grundbildung/
CATEGORIES:Fachgespräch
END:VEVENT
BEGIN:VEVENT
DTSTART;TZID=Europe/Berlin:20250527T140000
DTEND;TZID=Europe/Berlin:20250527T140000
DTSTAMP:20260423T183607
CREATED:20250311T132819Z
LAST-MODIFIED:20250311T133953Z
UID:9515-1748354400-1748354400@alphanetz-nrw.de
SUMMARY:„Türöffner Grundbildung“ – Die Einrichtungsperspektive
DESCRIPTION:„Türöffner Grundbildung“ – Die Einrichtungsperspektive \n  \nGrundbildung umfasst grundlegende Fähigkeiten und Kenntnisse\, die die Gestaltung des eigenen Lebens und die Teilhabe an Gesellschaft beeinflussen. Dabei kann es sich um die Verbesserung der Lese- und Schreibfähigkeiten handeln\, aber auch um eine Vielzahl anderer Kompetenzen\, die im Alltag benötigt werden. \nGrundbildung kann Türen öffnen\, nicht nur für die Menschen mit Grundbildungsbedarfen\, sondern auch auf Seiten der pädagogisch Tätigen und der Einrichtungen. \nZiel der Online-Fortbildung ist es\, mit dem Fokus Grundbildung das eigene pädagogische Handeln weiterzuentwickeln\, dabei unterschiedliche Lebenswelten und Sozialräume in den Blick zu nehmen und Angebote innerhalb und außerhalb der eigenen Einrichtung auszuloten. \n  \nIn der Online-Veranstaltung „Die Einrichtungsperspektive“ geht es darum\, Grundbildungsangebote von bestehenden Strukturen und Ressourcen aus (weiter) zu entwickeln. Häufig gibt es in Einrichtungen der Diakonie und der evangelischen Bildung bereits ein niedrigschwelliges und alltagsnahes Angebotsspektrum\, das unterschiedliche Zielgruppen erreicht und lebensweltlich orientiert ist. Damit sind diese dem Feld der Grundbildung bereits näher als gedacht. Ziel ist es\, unterschiedliche grundbildungsrelevante Themen und Formate kennenzulernen\, um Anschlüsse im Regelprogramm der eigenen Einrichtung und im Rahmen der eigenen Tätigkeit auszumachen und für die (Weiter-)Entwicklung Ihres Angebots zu nutzen. \n  \nDie Veranstaltung ist Teil der Fortbildung „Türöffner Grundbildung“\, die von der Evangelischen Fachstelle Grundbildung und Alphabetisierung (GrubA) und der Akademie für Kirche und Diakonie gemeinsam entwickelt und durchgeführt wird. Weitere Themen und Termine finden Sie hier: www.grundbildung-evangelisch.de. \nDie Veranstaltungsreihe wird im Rahmen des Projekts GrubA (Förderkennzeichen 2101ALWT) und der „Nationalen Dekade für Alphabetisierung und Grundbildung 2016 – 2026“ mit Mitteln des Bundesministeriums für Bildung und Forschung gefördert und ist für die Teilnehmer*innen kostenfrei. \nHinweis zu weiteren Veranstaltungen: \nDie Fortbildung besteht aus drei Online-Veranstaltungen. Die erste Veranstaltung „Ein neuer Blick auf die (eigene) Praxis“ soll regulär von allen Teilnehmenden besucht werden\, um darauf aufbauend an einer oder zwei weiteren Veranstaltungen teilzunehmen; „Lebenswelt- und Sozialraumorientierung“ und/oder „Die Einrichtungsperspektive“. \n\n\nSchwerpunkte\n\nSensibilisierung für die Ansprache und Begleitung unterschiedlicher Zielgruppen\nReflexion und Weiterentwicklung des eigenen pädagogischen (Grundbildungs-)Handelns\nAngebotsentwicklung im Themenfeld Grundbildung: lebensweltorientiert und einrichtungsbezogen\n\n\n\nZielgruppe\nPädagogisch Verantwortliche in Einrichtungen der kirchlichen Erwachsenen- und Familienbildung und in Einrichtungen der Diakonie\, Honorarkräfte und Ehrenamtliche mit Interesse am Themenfeld Grundbildung \n\n\nMethoden\n\nKleingruppenarbeit\nFallorientiertes Arbeiten\nKurzvorträge der Referent:innen\nTransfer- und Reflexionsaufgaben\nKollaborative Zusammenarbeit\n\n\n\nErgebnisse\nSie \n\nsind sensibilisiert für das Themenfeld Grundbildung\nhaben Ihr eigenes pädagogisches Handeln reflektiert\nhaben das pädagogische Handeln Ihrer Einrichtung reflektiert\nhaben Anregungen für sozialräumliches und lebensweltorientiertes Arbeiten erhalten und ausprobiert\nhaben Anregungen für die (Weiter-)Entwicklung grundbildungsrelevanter Angebote erhalten und ausprobiert\n\n\n\nTermine\n27. Mai 2025 | 14:00 – 17:00 \n\n\nDozierende\nFenna Bergmann\n\n\nIn Kooperation\nEvangelische Fachstelle Grundbildung und Alphabetisierung (GrubA)
URL:https://alphanetz-nrw.de/veranstaltung/tueroeffner-grundbildung-die-einrichtungsperspektive/
CATEGORIES:Fortbildungen
END:VEVENT
END:VCALENDAR