BEGIN:VCALENDAR
VERSION:2.0
PRODID:-//Alphanetz NRW - ECPv6.15.13//NONSGML v1.0//EN
CALSCALE:GREGORIAN
METHOD:PUBLISH
X-ORIGINAL-URL:https://alphanetz-nrw.de
X-WR-CALDESC:Veranstaltungen für Alphanetz NRW
REFRESH-INTERVAL;VALUE=DURATION:PT1H
X-Robots-Tag:noindex
X-PUBLISHED-TTL:PT1H
BEGIN:VTIMEZONE
TZID:Europe/Berlin
BEGIN:DAYLIGHT
TZOFFSETFROM:+0100
TZOFFSETTO:+0200
TZNAME:CEST
DTSTART:20220327T010000
END:DAYLIGHT
BEGIN:STANDARD
TZOFFSETFROM:+0200
TZOFFSETTO:+0100
TZNAME:CET
DTSTART:20221030T010000
END:STANDARD
BEGIN:DAYLIGHT
TZOFFSETFROM:+0100
TZOFFSETTO:+0200
TZNAME:CEST
DTSTART:20230326T010000
END:DAYLIGHT
BEGIN:STANDARD
TZOFFSETFROM:+0200
TZOFFSETTO:+0100
TZNAME:CET
DTSTART:20231029T010000
END:STANDARD
BEGIN:DAYLIGHT
TZOFFSETFROM:+0100
TZOFFSETTO:+0200
TZNAME:CEST
DTSTART:20240331T010000
END:DAYLIGHT
BEGIN:STANDARD
TZOFFSETFROM:+0200
TZOFFSETTO:+0100
TZNAME:CET
DTSTART:20241027T010000
END:STANDARD
END:VTIMEZONE
BEGIN:VEVENT
DTSTART;TZID=Europe/Berlin:20231010T100000
DTEND;TZID=Europe/Berlin:20231010T120000
DTSTAMP:20260424T012027
CREATED:20230921T140417Z
LAST-MODIFIED:20230921T140417Z
UID:8014-1696932000-1696939200@alphanetz-nrw.de
SUMMARY:Projektabschlusstreffen-DRAG
DESCRIPTION:Einladung zum digitalen Projektabschluss „Drop-out in der Alphabetisierung & Grundbildung“. DRAG Abschluss Einladung
URL:https://alphanetz-nrw.de/veranstaltung/projektabschlusstreffen-drag/
LOCATION:Online
CATEGORIES:Fortbildungen,Wissenschaft-Praxis-Dialog
END:VEVENT
BEGIN:VEVENT
DTSTART;TZID=Europe/Berlin:20231013T100000
DTEND;TZID=Europe/Berlin:20231013T151500
DTSTAMP:20260424T012027
CREATED:20230921T145139Z
LAST-MODIFIED:20230921T150118Z
UID:8022-1697191200-1697210100@alphanetz-nrw.de
SUMMARY:Werkzeuge für den Erfolg: Innovative Ansätze zur Arbeitsorientierten Grundbildung
DESCRIPTION:Einladung zum Fachtag \nWerkzeuge für den Erfolg: Innovative Ansätze zur Arbeitsorientierten Grundbildung \nam Freitag\, 13. Oktober 2023 von 10:00 Uhr bis ca. 15:15 Uhr im Haus der Wirtschaft in Stuttgart. \nDas Programm greift die aktuellen überaus dynamischen Entwicklungen in der Alphabetisierung und Grundbildung auf\, sei es in der Nationalen Dekade\, sei es in der Nationalen Weiterbildungsstrategie. Es geht einerseits darum\, die AoG auszubauen und damit auch auf die aktuellen Problemstellungen zu antworten\, insbesondere auf den Fachkräftemangel. Andererseits ist es besonders wichtig\, die Zusammenarbeit der Weiterbildungsträger untereinander\, mit der Arbeitsverwaltung und mit der Wirtschaft zu stärken. \nEntsprechend ist das Programm angelegt mit einem Praxisschwerpunkt und dem Besuch von laufenden Kursen der Technischen Akademie für berufliche Bildung Schwäbisch Gmünd in drei Unternehmen sowie mit Statements aus Politik\, Wirtschaft und Weiterbildung\, einer ersten Vorstellung des BMBF-finanzierten Forschungsprojekts der PH Weingarten zum Mehrwert der AoG und mit einer Podiumsdiskussion unter Beteiligung von Unternehmerinnen\, der Weiterbildung und der Bundesagentur für Arbeit. \nMelden Sie sich bitte unter www.km-bw.de/ArbeitsorientierteGrundbildung zur Veranstaltung an. Beachten Sie bitte auch das angefügte Dokument mit weiteren Anmeldeinformationen. Den Infolink zur Anreise finden Sie im Programm.
URL:https://alphanetz-nrw.de/veranstaltung/werkzeuge-fuer-den-erfolg-innovative-ansaetze-zur-arbeitsorientierten-grundbildung/
LOCATION:Stuttgart
CATEGORIES:Fachveranstaltungen
END:VEVENT
BEGIN:VEVENT
DTSTART;TZID=Europe/Berlin:20231027T100000
DTEND;TZID=Europe/Berlin:20231027T180000
DTSTAMP:20260424T012027
CREATED:20230515T122117Z
LAST-MODIFIED:20230531T082517Z
UID:7641-1698400800-1698429600@alphanetz-nrw.de
SUMMARY:Einführung in die Alphabetisierungsarbeit (vhs Münster)
DESCRIPTION:In dieser viertägigen Fortbildung erwerben Sie grundlegende Kenntnisse und Fähigkeiten für die Unterrichtspraxis in Alphabetisierungskursen. Sie richtet sich an Lehrende\, die Erwachsene mit Deutsch als Erstsprache oder guten deutschen Sprachkompetenzen beim Lesen- und Schreibenlernen unterstützen wollen. Der Seminarleiter Peter Hubertus\, freiberuflicher Alphabetisierungspädagoge\, leitet bundesweit Fortbildungen in Schule und Erwachsenenbildung und ist als Autor von Fachliteratur und Unterrichtsmaterialen bekannt. \nAnmeldung und Informationen hier: \n  \n 
URL:https://alphanetz-nrw.de/veranstaltung/einfuehrung-in-die-alphabetisierungsarbeit-vhs-muenster/
LOCATION:vhs Münster\, Aegidiimarkt 2-3\, 48143 Münster Raum 201
CATEGORIES:Fortbildungen
END:VEVENT
END:VCALENDAR