BEGIN:VCALENDAR
VERSION:2.0
PRODID:-//Alphanetz NRW - ECPv6.15.13//NONSGML v1.0//EN
CALSCALE:GREGORIAN
METHOD:PUBLISH
X-WR-CALNAME:Alphanetz NRW
X-ORIGINAL-URL:https://alphanetz-nrw.de
X-WR-CALDESC:Veranstaltungen für Alphanetz NRW
REFRESH-INTERVAL;VALUE=DURATION:PT1H
X-Robots-Tag:noindex
X-PUBLISHED-TTL:PT1H
BEGIN:VTIMEZONE
TZID:Europe/Berlin
BEGIN:DAYLIGHT
TZOFFSETFROM:+0100
TZOFFSETTO:+0200
TZNAME:CEST
DTSTART:20220327T010000
END:DAYLIGHT
BEGIN:STANDARD
TZOFFSETFROM:+0200
TZOFFSETTO:+0100
TZNAME:CET
DTSTART:20221030T010000
END:STANDARD
BEGIN:DAYLIGHT
TZOFFSETFROM:+0100
TZOFFSETTO:+0200
TZNAME:CEST
DTSTART:20230326T010000
END:DAYLIGHT
BEGIN:STANDARD
TZOFFSETFROM:+0200
TZOFFSETTO:+0100
TZNAME:CET
DTSTART:20231029T010000
END:STANDARD
BEGIN:DAYLIGHT
TZOFFSETFROM:+0100
TZOFFSETTO:+0200
TZNAME:CEST
DTSTART:20240331T010000
END:DAYLIGHT
BEGIN:STANDARD
TZOFFSETFROM:+0200
TZOFFSETTO:+0100
TZNAME:CET
DTSTART:20241027T010000
END:STANDARD
END:VTIMEZONE
BEGIN:VEVENT
DTSTART;TZID=Europe/Berlin:20231123T091500
DTEND;TZID=Europe/Berlin:20231123T130000
DTSTAMP:20260423T233608
CREATED:20231024T111604Z
LAST-MODIFIED:20231024T112034Z
UID:8087-1700730900-1700744400@alphanetz-nrw.de
SUMMARY:„Irgendwas ohne Menschen?“ Perspektiven auf digitale Grundbildung in der Arbeitswelt / Fachveranstaltung „Vitamin G!“
DESCRIPTION:Im Projekt BasisKomNet wird erprobt\, wie digitales Lernen mit Beschäftigten im Betrieb und in der Ausbildung funktioniert. Das Netzwerk Q 4.0 legt den Fokus auf Berufsausbildungspersonal. Vier spannende Sessions geben einen Einblick in verschiedene Praxiserfahrungen:\n• Mathematische Grundbildung im Dachdeckerhandwerk – von der Materialentwicklung zu einer digitalen Lernplattform mit der sächsischen Dachdeckerinnung (Arbeit und Leben Sachsen)\n• Lernen mit dem Smartphone bei der Berliner Stadtreinigung –\nPotenziale von WhatsApp und Social Media (Arbeit und Leben Berlin-Brandenburg)\n• Führung im Unternehmen und digitales Lernen – „So nehme ich alle mit“ am Beispiel der Pflege (Arbeit und Leben Hamburg)\n• Lernrevolution in der Arbeitswelt durch KI-Chatbots?! – Grundbildungs-Booster für geringqualifizierte Menschen und Potenziale für Lehrende und Auszubildende (Regionale Koordinierungsstelle Netzwerk Q 4.0 in Mecklenburg-Vorpommern/Schwerin) \nUnter dem Titel „Empirie trifft Praxis“ wird diskutiert üb Gelingensbedingungen digitaler Grundbildung mit Sandra Langer (Forschungsprojekt GediG\, Pädagogische Hochschule Weingarten)\, Einschätzungen von Unternehmen mit Isabel Valhaus (Institut der Deutschen Wirtschaft Köln e.V.\, Projekt AlphaGrund vernetzt) sowie Erfahrungen und Herausforderungen der Praxis. \nWeitere Informationen\, das ausführliche Programm und den Link zur Anmeldung finden Sie im Anhang und auf der Website des Veranstalters. \nAnmeldung \nFür Rückfragen zur Veranstaltung stehen Ihnen zur Verfügung: Anke Frey (frey@arbeitundleben.de) und Johanna Classen (classen@arbeitundleben.de)
URL:https://alphanetz-nrw.de/veranstaltung/8087/
LOCATION:Online
CATEGORIES:Fachveranstaltungen
END:VEVENT
BEGIN:VEVENT
DTSTART;TZID=Europe/Berlin:20231129T120000
DTEND;TZID=Europe/Berlin:20231130T133000
DTSTAMP:20260423T233608
CREATED:20230918T164855Z
LAST-MODIFIED:20230921T111600Z
UID:7969-1701259200-1701351000@alphanetz-nrw.de
SUMMARY:AlphaDekade-Konferenz 2023 „Wissenschaft und Praxis im Dialog"
DESCRIPTION:Mehr als sechs Millionen Erwachsene in Deutschland haben Schwierigkeiten mit dem Lesen und Schreiben. Trotz zunehmender Erkenntnisse sind grundlegende Fragen zu geringer Literalität in Deutschland noch immer nicht hinreichend erforscht und beantwortet.\nEs ist daher erklärtes Ziel der AlphaDekade\, die Forschungslage in diesem Bereich zu verbessern. Mit dem 2021 gestarteten Schwerpunkt zur Förderung von praxis- und anwendungsorientierten Forschungsvorhaben entstehen Ergebnisse\, die in der Praxis dauerhaft genutzt werden können.
URL:https://alphanetz-nrw.de/veranstaltung/alphadekade-konferenz-2023-wissenschaft-und-praxis-im-dialog/
CATEGORIES:Fachveranstaltungen
END:VEVENT
END:VCALENDAR