BEGIN:VCALENDAR
VERSION:2.0
PRODID:-//Alphanetz NRW - ECPv6.15.13//NONSGML v1.0//EN
CALSCALE:GREGORIAN
METHOD:PUBLISH
X-ORIGINAL-URL:https://alphanetz-nrw.de
X-WR-CALDESC:Veranstaltungen für Alphanetz NRW
REFRESH-INTERVAL;VALUE=DURATION:PT1H
X-Robots-Tag:noindex
X-PUBLISHED-TTL:PT1H
BEGIN:VTIMEZONE
TZID:Europe/Berlin
BEGIN:DAYLIGHT
TZOFFSETFROM:+0100
TZOFFSETTO:+0200
TZNAME:CEST
DTSTART:20230326T010000
END:DAYLIGHT
BEGIN:STANDARD
TZOFFSETFROM:+0200
TZOFFSETTO:+0100
TZNAME:CET
DTSTART:20231029T010000
END:STANDARD
BEGIN:DAYLIGHT
TZOFFSETFROM:+0100
TZOFFSETTO:+0200
TZNAME:CEST
DTSTART:20240331T010000
END:DAYLIGHT
BEGIN:STANDARD
TZOFFSETFROM:+0200
TZOFFSETTO:+0100
TZNAME:CET
DTSTART:20241027T010000
END:STANDARD
BEGIN:DAYLIGHT
TZOFFSETFROM:+0100
TZOFFSETTO:+0200
TZNAME:CEST
DTSTART:20250330T010000
END:DAYLIGHT
BEGIN:STANDARD
TZOFFSETFROM:+0200
TZOFFSETTO:+0100
TZNAME:CET
DTSTART:20251026T010000
END:STANDARD
END:VTIMEZONE
BEGIN:VEVENT
DTSTART;TZID=Europe/Berlin:20240507T100000
DTEND;TZID=Europe/Berlin:20240507T130000
DTSTAMP:20260423T131716
CREATED:20240430T110627Z
LAST-MODIFIED:20240430T110627Z
UID:8815-1715076000-1715086800@alphanetz-nrw.de
SUMMARY:Regionaltreffen Alphanetz NRW I Regierungsbezirk Düsseldorf und Köln I online
DESCRIPTION:Programmablauf \n10:00 Uhr Begrüßung und Bericht aus der Koordinierungsstelle\n10:15 Uhr Drop-out in der Alphabetisierung und Grundbildung (DRAG)\, Jana Arbeiter und Lena Sindermann\, Universität zu Köln\n11:45 Uhr Pause\n12:00 Uhr Regionaler Austausch in Breakout Rooms\n12:45 Uhr Verabschiedung \nAnmeldung: https://app.vhs-nrw.de/forms/p/Alphanetz_Regionaltreffen_Köln_Düsseldorf \n 
URL:https://alphanetz-nrw.de/veranstaltung/regionaltreffen-alphanetz-nrw-i-regierungsbezirk-duesseldorf-und-koeln-i-online/
LOCATION:Online-Zoom
CATEGORIES:Netzwerktreffen im Alphanetz NRW
END:VEVENT
BEGIN:VEVENT
DTSTART;TZID=Europe/Berlin:20240522T150000
DTEND;TZID=Europe/Berlin:20240522T153000
DTSTAMP:20260423T131716
CREATED:20240517T113648Z
LAST-MODIFIED:20240517T115050Z
UID:8864-1716390000-1716391800@alphanetz-nrw.de
SUMMARY:Online-Coffee-Lectures zur Erstellung und Verbreitung von Bildungsmaterial
DESCRIPTION:Das Team der Produktdatenbank Alphabetisierung und Grundbildung (PAG) bietet\nab sofort wieder die beliebten und kostenfreien Coffee-Lectures zur Erstellung und Verbreitung von Bildungsmaterial sowie zur Nutzung der PAG an! \nErstellen Sie Bildungsmaterial im Bereich Alphabetisierung und Grundbildung\, sind sich aber noch unsicher in der Vergabe von Lizenzen\, der rechtskonformen Einbettung von Grafiken und Bildern in ihr Bildungsmaterial?  Benötigen Sie weitere Tipps zu Formaten für Bildungsmaterial oder zum Verbreiten und Teilen von Lehr-/Lernmaterialien? \nDie ca. 20-30-minütigen Coffee-Lectures (via Zoom) bieten Ihnen nützliche Praxistipps und die Möglichkeit\, Ihr Wissen über die PAG und die richtige Lizenzierung und Einreichung von Material in die PAG in kurzer Zeit zu festigen und zu erweitern. \nFür Nutzerinnen und Nutzer der Produktdatenbank Alphabetisierung und Grundbildung besteht die Möglichkeit\, sich während der Coffee-Lecture einen Einblick über die Materialsuche in der PAG zu verschaffen. \nDie Coffee-Lectures finden über Zoom statt. \nCoffee-Lectures zur Erstellung/Verbreitung von Bildungsmaterial \nGut platziert! Teilen von Bildungsmaterialien in der P \n\n22.05.2024\, 15:00 Uhr\n\nAnmeldung\nZum Anmeldeformular \nAnmeldeschluss ist drei Werktage vor dem jeweiligen Termin. Den Zoom-Link erhalten Sie dann vor dem Termin per E-Mail.
URL:https://alphanetz-nrw.de/veranstaltung/online-coffee-lectures-zur-erstellung-und-verbreitung-von-bildungsmaterial/
LOCATION:Online-Zoom
CATEGORIES:Schulung/Seminar
END:VEVENT
BEGIN:VEVENT
DTSTART;TZID=Europe/Berlin:20240523T100000
DTEND;TZID=Europe/Berlin:20240523T130000
DTSTAMP:20260423T131716
CREATED:20240430T110916Z
LAST-MODIFIED:20240430T110916Z
UID:8818-1716458400-1716469200@alphanetz-nrw.de
SUMMARY:Regionaltreffen Alphanetz NRW I Regierungsbezirk Arnsberg\, Detmold und Münster I online
DESCRIPTION:Programmablauf \n10:00 Uhr Begrüßung und Bericht aus der Koordinierungsstelle\n10:15 Uhr Drop-out in der Alphabetisierung und Grundbildung (DRAG)\, Jana Arbeiter und Lena Sindermann\, Universität zu Köln\n11:45 Uhr Pause\n12:00 Uhr Regionaler Austausch in Breakout Rooms\n12:45 Uhr Verabschiedung \nAnmeldung: https://app.vhs-nrw.de/forms/p/AlphanetzNRW_Regionaltreffen_Arnsberg_Detmold_Münster \n 
URL:https://alphanetz-nrw.de/veranstaltung/regionaltreffen-alphanetz-nrw-i-regierungsbezirk-arnsberg-detmold-und-muenster-i-online/
LOCATION:Online-Zoom
CATEGORIES:Netzwerktreffen im Alphanetz NRW
END:VEVENT
BEGIN:VEVENT
DTSTART;TZID=Europe/Berlin:20240523T110000
DTEND;TZID=Europe/Berlin:20240523T113000
DTSTAMP:20260423T131716
CREATED:20240517T115400Z
LAST-MODIFIED:20240517T115400Z
UID:8879-1716462000-1716463800@alphanetz-nrw.de
SUMMARY:Online-Coffee-Lectures zur Erstellung und Verbreitung von Bildungsmaterial
DESCRIPTION:Das Team der Produktdatenbank Alphabetisierung und Grundbildung (PAG) bietet\nab sofort wieder die beliebten und kostenfreien Coffee-Lectures zur Erstellung und Verbreitung von Bildungsmaterial sowie zur Nutzung der PAG an! \nErstellen Sie Bildungsmaterial im Bereich Alphabetisierung und Grundbildung\, sind sich aber noch unsicher in der Vergabe von Lizenzen\, der rechtskonformen Einbettung von Grafiken und Bildern in ihr Bildungsmaterial?  Benötigen Sie weitere Tipps zu Formaten für Bildungsmaterial oder zum Verbreiten und Teilen von Lehr-/Lernmaterialien? \nDie ca. 20-30-minütigen Coffee-Lectures (via Zoom) bieten Ihnen nützliche Praxistipps und die Möglichkeit\, Ihr Wissen über die PAG und die richtige Lizenzierung und Einreichung von Material in die PAG in kurzer Zeit zu festigen und zu erweitern. \nFür Nutzerinnen und Nutzer der Produktdatenbank Alphabetisierung und Grundbildung besteht die Möglichkeit\, sich während der Coffee-Lecture einen Einblick über die Materialsuche in der PAG zu verschaffen. \nWann und Wo?\nDie Coffee-Lectures finden über Zoom statt. \nCoffee-Lectures zur Erstellung/Verbreitung von Bildungsmaterial \nWie suche ich in der PAG? \n\n23.05.2024\, 11:00 Uhr\n\nWeitere Termine folgen! \nAnmeldung\nZum Anmeldeformular \nAnmeldeschluss ist drei Werktage vor dem jeweiligen Termin. Den Zoom-Link erhalten Sie dann vor dem Termin per E-Mail.
URL:https://alphanetz-nrw.de/veranstaltung/online-coffee-lectures-zur-erstellung-und-verbreitung-von-bildungsmaterial-4/
LOCATION:Online-Zoom
CATEGORIES:Schulung/Seminar
END:VEVENT
BEGIN:VEVENT
DTSTART;TZID=Europe/Berlin:20240524T130000
DTEND;TZID=Europe/Berlin:20240524T170000
DTSTAMP:20260423T131716
CREATED:20240314T102859Z
LAST-MODIFIED:20240314T103020Z
UID:8791-1716555600-1716570000@alphanetz-nrw.de
SUMMARY:Globales Lernen in einfacher Sprache
DESCRIPTION:Kostenlose Fortbildung für Kursleiter*innen in der Grundbildung und Multiplikator*innen des Globalen Lernens \nDatum: 24.05.2024\, 13-17 Uhr \nVeranstalter*in: F3_kollektiv Dozent*in: Katrin Konrad und Evelyn Linde \nOrt: Münster\, genauer Seminarort wird nach Anmeldung mitgeteilt \nPolitische Bildung soll demokratische Teilhabe ermöglichen. Alle Menschen sollten sich (macht-)kritisch eine Meinung bilden und sich als politisch handlungsfähig wahrnehmen können. Dazu gehört auch\, globale Verhältnisse zu verstehen. \nFür gering literalisierte Erwachsene (heißt: Erwachsene\, die nicht (gut) lesen und schreiben können) stellt dies jedoch oft eine Hürde dar. Denn über komplexe Zusammenhänge wird kompliziert gesprochen. Es fehlen passende Lernangebote in einfacher Sprache. \nWir vom F3_kollektiv bieten Globales Lernen mit machtkritischen Perspektiven an. Dazu haben wir Materialien in einfacher Sprache entwickelt. Außerdem bieten wir Fortbildungen für Multiplikator*innen des Globalen Lernens und für Kursleiter*innen der Grundbildung an. \nIn der Fortbildung zeigen wir anhand des Themas Geschlechtergerechtigkeit\, wie machtkritisches Globales Lernen in einfacher Sprache aussehen kann. Wir tauschen uns mit den Teilnehmer*innen darüber aus\, wie eine machtkritische Haltung sie in ihrer pädagogischen Praxis stärken kann und die Teilnehmer*innen lernen unsere Materialien kennen. Im zweiten Teil der Fortbildung\, geben wir den Teilnehmer*innen praktische Tipps an die Hand\, wie sie ihre eigenen Bildungsangebote machtkritisch in einfacher Sprache gestalten und konzipieren können. \nZielgruppe: Die Fortbildung richtet sich an Kursleiter*innen in der Grundbildung sowie an Multiplikator*innen des Globalen Lernens/BNE und der politischen Bildung. Es sind keine Vorkenntnisse notwendig. \nAnmeldung:\nÜber das Anmelde-Formular auf der F3_kollekiv-Website oder per Mail digitalglobal@f3kollektiv.net h\nAnmeldeschluss: 12. Mai 2024
URL:https://alphanetz-nrw.de/veranstaltung/globales-lernen-in-einfacher-sprache/
CATEGORIES:Fortbildungen,Schulung/Seminar
END:VEVENT
END:VCALENDAR