BEGIN:VCALENDAR
VERSION:2.0
PRODID:-//Alphanetz NRW - ECPv6.15.13//NONSGML v1.0//EN
CALSCALE:GREGORIAN
METHOD:PUBLISH
X-WR-CALNAME:Alphanetz NRW
X-ORIGINAL-URL:https://alphanetz-nrw.de
X-WR-CALDESC:Veranstaltungen für Alphanetz NRW
REFRESH-INTERVAL;VALUE=DURATION:PT1H
X-Robots-Tag:noindex
X-PUBLISHED-TTL:PT1H
BEGIN:VTIMEZONE
TZID:Europe/Berlin
BEGIN:DAYLIGHT
TZOFFSETFROM:+0100
TZOFFSETTO:+0200
TZNAME:CEST
DTSTART:20230326T010000
END:DAYLIGHT
BEGIN:STANDARD
TZOFFSETFROM:+0200
TZOFFSETTO:+0100
TZNAME:CET
DTSTART:20231029T010000
END:STANDARD
BEGIN:DAYLIGHT
TZOFFSETFROM:+0100
TZOFFSETTO:+0200
TZNAME:CEST
DTSTART:20240331T010000
END:DAYLIGHT
BEGIN:STANDARD
TZOFFSETFROM:+0200
TZOFFSETTO:+0100
TZNAME:CET
DTSTART:20241027T010000
END:STANDARD
BEGIN:DAYLIGHT
TZOFFSETFROM:+0100
TZOFFSETTO:+0200
TZNAME:CEST
DTSTART:20250330T010000
END:DAYLIGHT
BEGIN:STANDARD
TZOFFSETFROM:+0200
TZOFFSETTO:+0100
TZNAME:CET
DTSTART:20251026T010000
END:STANDARD
END:VTIMEZONE
BEGIN:VEVENT
DTSTART;TZID=Europe/Berlin:20240612T100000
DTEND;TZID=Europe/Berlin:20240612T103000
DTSTAMP:20260423T114644
CREATED:20240517T114508Z
LAST-MODIFIED:20240517T114823Z
UID:8871-1718186400-1718188200@alphanetz-nrw.de
SUMMARY:Online-Coffee-Lectures zur Erstellung und Verbreitung von Bildungsmaterial
DESCRIPTION:Das Team der Produktdatenbank Alphabetisierung und Grundbildung (PAG) bietet\nab sofort wieder die beliebten und kostenfreien Coffee-Lectures zur Erstellung und Verbreitung von Bildungsmaterial sowie zur Nutzung der PAG an! \nErstellen Sie Bildungsmaterial im Bereich Alphabetisierung und Grundbildung\, sind sich aber noch unsicher in der Vergabe von Lizenzen\, der rechtskonformen Einbettung von Grafiken und Bildern in ihr Bildungsmaterial?  Benötigen Sie weitere Tipps zu Formaten für Bildungsmaterial oder zum Verbreiten und Teilen von Lehr-/Lernmaterialien? \nDie ca. 20-30-minütigen Coffee-Lectures (via Zoom) bieten Ihnen nützliche Praxistipps und die Möglichkeit\, Ihr Wissen über die PAG und die richtige Lizenzierung und Einreichung von Material in die PAG in kurzer Zeit zu festigen und zu erweitern. \nFür Nutzerinnen und Nutzer der Produktdatenbank Alphabetisierung und Grundbildung besteht die Möglichkeit\, sich während der Coffee-Lecture einen Einblick über die Materialsuche in der PAG zu verschaffen. \nWann und Wo?\nDie Coffee-Lectures finden über Zoom statt. \nCoffee-Lectures zur Erstellung/Verbreitung von Bildungsmaterial \nMehr als PDFs! Offene Formate für Bildungsmaterialien wählen\n \n\n12.06.2024\, 10:00 Uhr\n\nAnmeldung\nZum Anmeldeformular \nAnmeldeschluss ist drei Werktage vor dem jeweiligen Termin. Den Zoom-Link erhalten Sie dann vor dem Termin per E-Mail. \n 
URL:https://alphanetz-nrw.de/veranstaltung/8871/
LOCATION:Online-Zoom
CATEGORIES:Schulung/Seminar
END:VEVENT
BEGIN:VEVENT
DTSTART;TZID=Europe/Berlin:20240613T100000
DTEND;TZID=Europe/Berlin:20240613T103000
DTSTAMP:20260423T114644
CREATED:20240517T114157Z
LAST-MODIFIED:20240517T114857Z
UID:8869-1718272800-1718274600@alphanetz-nrw.de
SUMMARY:Online-Coffee-Lectures zur Erstellung und Verbreitung von Bildungsmaterial
DESCRIPTION:Das Team der Produktdatenbank Alphabetisierung und Grundbildung (PAG) bietet\nab sofort wieder die beliebten und kostenfreien Coffee-Lectures zur Erstellung und Verbreitung von Bildungsmaterial sowie zur Nutzung der PAG an! \nErstellen Sie Bildungsmaterial im Bereich Alphabetisierung und Grundbildung\, sind sich aber noch unsicher in der Vergabe von Lizenzen\, der rechtskonformen Einbettung von Grafiken und Bildern in ihr Bildungsmaterial?  Benötigen Sie weitere Tipps zu Formaten für Bildungsmaterial oder zum Verbreiten und Teilen von Lehr-/Lernmaterialien? \nDie ca. 20-30-minütigen Coffee-Lectures (via Zoom) bieten Ihnen nützliche Praxistipps und die Möglichkeit\, Ihr Wissen über die PAG und die richtige Lizenzierung und Einreichung von Material in die PAG in kurzer Zeit zu festigen und zu erweitern. \nFür Nutzerinnen und Nutzer der Produktdatenbank Alphabetisierung und Grundbildung besteht die Möglichkeit\, sich während der Coffee-Lecture einen Einblick über die Materialsuche in der PAG zu verschaffen. \nWann und Wo?\nDie Coffee-Lectures finden über Zoom statt. \nCoffee-Lectures zur Erstellung/Verbreitung von Bildungsmaterial \nLooks right! Bilder und Grafiken rechtskonform in Bildungsmaterialien einbetten \n\n13.06.2024\, 10:00 Uhr\n\nAnmeldung\nZum Anmeldeformular \nAnmeldeschluss ist drei Werktage vor dem jeweiligen Termin. Den Zoom-Link erhalten Sie dann vor dem Termin per E-Mail.
URL:https://alphanetz-nrw.de/veranstaltung/online-coffee-lectures-zur-erstellung-und-verbreitung-von-bildungsmaterial-3/
LOCATION:Online-Zoom
CATEGORIES:Schulung/Seminar
END:VEVENT
END:VCALENDAR