BEGIN:VCALENDAR
VERSION:2.0
PRODID:-//Alphanetz NRW - ECPv6.15.13//NONSGML v1.0//EN
CALSCALE:GREGORIAN
METHOD:PUBLISH
X-WR-CALNAME:Alphanetz NRW
X-ORIGINAL-URL:https://alphanetz-nrw.de
X-WR-CALDESC:Veranstaltungen für Alphanetz NRW
REFRESH-INTERVAL;VALUE=DURATION:PT1H
X-Robots-Tag:noindex
X-PUBLISHED-TTL:PT1H
BEGIN:VTIMEZONE
TZID:Europe/Berlin
BEGIN:DAYLIGHT
TZOFFSETFROM:+0100
TZOFFSETTO:+0200
TZNAME:CEST
DTSTART:20230326T010000
END:DAYLIGHT
BEGIN:STANDARD
TZOFFSETFROM:+0200
TZOFFSETTO:+0100
TZNAME:CET
DTSTART:20231029T010000
END:STANDARD
BEGIN:DAYLIGHT
TZOFFSETFROM:+0100
TZOFFSETTO:+0200
TZNAME:CEST
DTSTART:20240331T010000
END:DAYLIGHT
BEGIN:STANDARD
TZOFFSETFROM:+0200
TZOFFSETTO:+0100
TZNAME:CET
DTSTART:20241027T010000
END:STANDARD
BEGIN:DAYLIGHT
TZOFFSETFROM:+0100
TZOFFSETTO:+0200
TZNAME:CEST
DTSTART:20250330T010000
END:DAYLIGHT
BEGIN:STANDARD
TZOFFSETFROM:+0200
TZOFFSETTO:+0100
TZNAME:CET
DTSTART:20251026T010000
END:STANDARD
END:VTIMEZONE
BEGIN:VEVENT
DTSTART;TZID=Europe/Berlin:20241118T120000
DTEND;TZID=Europe/Berlin:20241118T131500
DTSTAMP:20260423T040429
CREATED:20241030T091045Z
LAST-MODIFIED:20241030T091414Z
UID:9136-1731931200-1731935700@alphanetz-nrw.de
SUMMARY:Digitaler DRAG-Abschluss
DESCRIPTION:Das Projekt DRAG lädt zu einem digitalen Projektabschluss ein\, an dem Ergebnisse präsentiert werden sowie Implikationen für die Praxis vorgestellt und diskutiert werden. Auch mögliche Ideen für nachhaltigen Transfer der Ergebnisse können gemeinsam entwickelt werden. \nNachdem sich das Projekt DRAG (Drop-out in der Alphabetitiserung und Grundbildung) in den ersten drei Jahren (2021-2023) mit Ursachen von und Möglichkeiten des Umgangs mit dem Drop-out von Teilnehmenden in der Alphabetisierung und Grundbildung beschäftigt hat\, war in diesem Jahr die Frage leitend\, was die Entscheidung von Dozierenden beeinflusst ihre Tätigkeit in der Alphabetisierung und Grundbildung fortzusetzen oder zu beenden. \nMelden Sie sich gerne per E-Mail an Dr.’in Jana Arbeiter für detailierte Information und die Zugangsdaten für die Fachvranstaltung an: \njana.arbeiter@uni-koeln.de \n 
URL:https://alphanetz-nrw.de/veranstaltung/digitaler-drag-abschluss/
LOCATION:Online
CATEGORIES:Fachveranstaltungen
END:VEVENT
END:VCALENDAR