BEGIN:VCALENDAR
VERSION:2.0
PRODID:-//Alphanetz NRW - ECPv6.15.13//NONSGML v1.0//EN
CALSCALE:GREGORIAN
METHOD:PUBLISH
X-WR-CALNAME:Alphanetz NRW
X-ORIGINAL-URL:https://alphanetz-nrw.de
X-WR-CALDESC:Veranstaltungen für Alphanetz NRW
REFRESH-INTERVAL;VALUE=DURATION:PT1H
X-Robots-Tag:noindex
X-PUBLISHED-TTL:PT1H
BEGIN:VTIMEZONE
TZID:Europe/Berlin
BEGIN:DAYLIGHT
TZOFFSETFROM:+0100
TZOFFSETTO:+0200
TZNAME:CEST
DTSTART:20240331T010000
END:DAYLIGHT
BEGIN:STANDARD
TZOFFSETFROM:+0200
TZOFFSETTO:+0100
TZNAME:CET
DTSTART:20241027T010000
END:STANDARD
BEGIN:DAYLIGHT
TZOFFSETFROM:+0100
TZOFFSETTO:+0200
TZNAME:CEST
DTSTART:20250330T010000
END:DAYLIGHT
BEGIN:STANDARD
TZOFFSETFROM:+0200
TZOFFSETTO:+0100
TZNAME:CET
DTSTART:20251026T010000
END:STANDARD
BEGIN:DAYLIGHT
TZOFFSETFROM:+0100
TZOFFSETTO:+0200
TZNAME:CEST
DTSTART:20260329T010000
END:DAYLIGHT
BEGIN:STANDARD
TZOFFSETFROM:+0200
TZOFFSETTO:+0100
TZNAME:CET
DTSTART:20261025T010000
END:STANDARD
END:VTIMEZONE
BEGIN:VEVENT
DTSTART;TZID=Europe/Berlin:20251127T160000
DTEND;TZID=Europe/Berlin:20251127T181500
DTSTAMP:20260424T042613
CREATED:20251111T154942Z
LAST-MODIFIED:20251111T154954Z
UID:10132-1764259200-1764267300@alphanetz-nrw.de
SUMMARY:Übungsblätter\, Tipps und Tricks für die Lernbegleitung
DESCRIPTION:Die Suche nach geeigneten Methoden und Übungsblättern für die Lernbegleitung ist aufwendig und mühsam? Wenn Sie Menschen unterstützen\, die ihre Deutsch-\, Lese- und Schreibkompetenzen verbessern möchten\, ist die Schulung des vhs-Ehrenamtsportals genau das Richtige für Sie. Gemeinsam werden Ziele und Herausforderungen der Lernbegleitung im Lerncafé oder im Tandem thematisiert. \nEin detaillierter Einblick in die Übungsblätter des vhs-Ehrenamtsportals rundet das Angebot ab: Sie lernen\, wie diese aufgebaut sind und welche Themen sie behandeln. Wertvolle Tipps von Expertinnen und Experten sowie spielerische Methoden für Ihre Tätigkeit werden Ihnen ebenfalls an die Hand gegeben. \n 
URL:https://alphanetz-nrw.de/veranstaltung/uebungsblaetter-tipps-und-tricks-fuer-die-lernbegleitung-5/
LOCATION:Onine
CATEGORIES:Schulung/Seminar
END:VEVENT
END:VCALENDAR