BEGIN:VCALENDAR
VERSION:2.0
PRODID:-//Alphanetz NRW - ECPv6.15.13//NONSGML v1.0//EN
CALSCALE:GREGORIAN
METHOD:PUBLISH
X-WR-CALNAME:Alphanetz NRW
X-ORIGINAL-URL:https://alphanetz-nrw.de
X-WR-CALDESC:Veranstaltungen für Alphanetz NRW
REFRESH-INTERVAL;VALUE=DURATION:PT1H
X-Robots-Tag:noindex
X-PUBLISHED-TTL:PT1H
BEGIN:VTIMEZONE
TZID:Europe/Berlin
BEGIN:DAYLIGHT
TZOFFSETFROM:+0100
TZOFFSETTO:+0200
TZNAME:CEST
DTSTART:20220327T010000
END:DAYLIGHT
BEGIN:STANDARD
TZOFFSETFROM:+0200
TZOFFSETTO:+0100
TZNAME:CET
DTSTART:20221030T010000
END:STANDARD
BEGIN:DAYLIGHT
TZOFFSETFROM:+0100
TZOFFSETTO:+0200
TZNAME:CEST
DTSTART:20230326T010000
END:DAYLIGHT
BEGIN:STANDARD
TZOFFSETFROM:+0200
TZOFFSETTO:+0100
TZNAME:CET
DTSTART:20231029T010000
END:STANDARD
BEGIN:DAYLIGHT
TZOFFSETFROM:+0100
TZOFFSETTO:+0200
TZNAME:CEST
DTSTART:20240331T010000
END:DAYLIGHT
BEGIN:STANDARD
TZOFFSETFROM:+0200
TZOFFSETTO:+0100
TZNAME:CET
DTSTART:20241027T010000
END:STANDARD
END:VTIMEZONE
BEGIN:VEVENT
DTSTART;TZID=Europe/Berlin:20230522T100000
DTEND;TZID=Europe/Berlin:20230522T133000
DTSTAMP:20260423T233751
CREATED:20230421T071947Z
LAST-MODIFIED:20230421T072557Z
UID:7588-1684749600-1684762200@alphanetz-nrw.de
SUMMARY:Online-Fachtagung „Vernetzung innerhalb regionaler Bildungslandschaften – Ein Erfolgskonzept für die Alphabetisierungs- und Grundbildungsarbeit?!”
DESCRIPTION:
URL:https://alphanetz-nrw.de/veranstaltung/online-fachtagung-vernetzung-innerhalb-regionaler-bildungslandschaften-ein-erfolgskonzept-fuer-die-alphabetisierungs-und-grundbildungsarbeit/
LOCATION:Online
CATEGORIES:Fachveranstaltungen
END:VEVENT
END:VCALENDAR