BEGIN:VCALENDAR
VERSION:2.0
PRODID:-//Alphanetz NRW - ECPv6.15.13//NONSGML v1.0//EN
CALSCALE:GREGORIAN
METHOD:PUBLISH
X-ORIGINAL-URL:https://alphanetz-nrw.de
X-WR-CALDESC:Veranstaltungen für Alphanetz NRW
REFRESH-INTERVAL;VALUE=DURATION:PT1H
X-Robots-Tag:noindex
X-PUBLISHED-TTL:PT1H
BEGIN:VTIMEZONE
TZID:Europe/Berlin
BEGIN:DAYLIGHT
TZOFFSETFROM:+0100
TZOFFSETTO:+0200
TZNAME:CEST
DTSTART:20220327T010000
END:DAYLIGHT
BEGIN:STANDARD
TZOFFSETFROM:+0200
TZOFFSETTO:+0100
TZNAME:CET
DTSTART:20221030T010000
END:STANDARD
BEGIN:DAYLIGHT
TZOFFSETFROM:+0100
TZOFFSETTO:+0200
TZNAME:CEST
DTSTART:20230326T010000
END:DAYLIGHT
BEGIN:STANDARD
TZOFFSETFROM:+0200
TZOFFSETTO:+0100
TZNAME:CET
DTSTART:20231029T010000
END:STANDARD
BEGIN:DAYLIGHT
TZOFFSETFROM:+0100
TZOFFSETTO:+0200
TZNAME:CEST
DTSTART:20240331T010000
END:DAYLIGHT
BEGIN:STANDARD
TZOFFSETFROM:+0200
TZOFFSETTO:+0100
TZNAME:CET
DTSTART:20241027T010000
END:STANDARD
END:VTIMEZONE
BEGIN:VEVENT
DTSTART;TZID=Europe/Berlin:20231129T140000
DTEND;TZID=Europe/Berlin:20231129T170000
DTSTAMP:20260423T133251
CREATED:20230921T142953Z
LAST-MODIFIED:20230921T143103Z
UID:8018-1701266400-1701277200@alphanetz-nrw.de
SUMMARY:Sensibilisierungsschulung: Wenn Buchstaben wenig Sinn ergeben  Problemen mit der Schriftsprache kompetent und sensibel begegnen
DESCRIPTION:Die Schulung richtet sich an Fachkräfte\, die in ihrem beruflichen Alltag Menschen begegnen\, die Schwierigkeiten im Umgang mit den täglichen schriftsprachlichen Anforderungen haben und deshalb in ihrer Selbständigkeit und sozialen Teilhabe eingeschränkt sind.\nZiel der Schulung ist es\, Sie durch Selbsterfahrung für diese besondere Situation zu sensibilisieren und eine praxisnahe Orientierung zu geben\, wie Sie diese Schwierigkeiten erkennen\, ansprechen und passende Hilfestellungen anbieten können. Neben der Vermittlung von Hintergrundinformationen wird es auch die Möglichkeit zu einem Erfahrungsaustausch geben. \nTermin: Mi\, 29.11.2023 14:00-17:00\, 1x\nvhs\, Peterstraße\, Raum 241\, Forum\nDozentin: Sarbo\, Evelyn\nAnmeldeschluss am 08. November 2023.\nKursnummer: 232-17015 \ne\nWiebke Eilts\nVolkshochschule Aachen\nTel.: +49 241 4792 181\nE-Mail: Wiebke.Eilts@mail.aachen.de
URL:https://alphanetz-nrw.de/veranstaltung/sensibilisierungsschulung-wenn-buchstaben-wenig-sinn-ergeben-problemen-mit-der-schriftsprache-kompetent-und-sensibel-begegnen/
LOCATION:vhs Aachen
CATEGORIES:Sensibilisierungsschulungen
END:VEVENT
END:VCALENDAR