BEGIN:VCALENDAR
VERSION:2.0
PRODID:-//Alphanetz NRW - ECPv6.15.13//NONSGML v1.0//EN
CALSCALE:GREGORIAN
METHOD:PUBLISH
X-WR-CALNAME:Alphanetz NRW
X-ORIGINAL-URL:https://alphanetz-nrw.de
X-WR-CALDESC:Veranstaltungen für Alphanetz NRW
REFRESH-INTERVAL;VALUE=DURATION:PT1H
X-Robots-Tag:noindex
X-PUBLISHED-TTL:PT1H
BEGIN:VTIMEZONE
TZID:Europe/Berlin
BEGIN:DAYLIGHT
TZOFFSETFROM:+0100
TZOFFSETTO:+0200
TZNAME:CEST
DTSTART:20200329T010000
END:DAYLIGHT
BEGIN:STANDARD
TZOFFSETFROM:+0200
TZOFFSETTO:+0100
TZNAME:CET
DTSTART:20201025T010000
END:STANDARD
BEGIN:DAYLIGHT
TZOFFSETFROM:+0100
TZOFFSETTO:+0200
TZNAME:CEST
DTSTART:20210328T010000
END:DAYLIGHT
BEGIN:STANDARD
TZOFFSETFROM:+0200
TZOFFSETTO:+0100
TZNAME:CET
DTSTART:20211031T010000
END:STANDARD
BEGIN:DAYLIGHT
TZOFFSETFROM:+0100
TZOFFSETTO:+0200
TZNAME:CEST
DTSTART:20220327T010000
END:DAYLIGHT
BEGIN:STANDARD
TZOFFSETFROM:+0200
TZOFFSETTO:+0100
TZNAME:CET
DTSTART:20221030T010000
END:STANDARD
END:VTIMEZONE
BEGIN:VEVENT
DTSTART;TZID=Europe/Berlin:20210910T120000
DTEND;TZID=Europe/Berlin:20210910T170000
DTSTAMP:20260425T183735
CREATED:20210318T133108Z
LAST-MODIFIED:20210512T071052Z
UID:4982-1631275200-1631293200@alphanetz-nrw.de
SUMMARY:Leben mit geringer Literalität
DESCRIPTION:Menschen mit geringen Lese- und Schreibkompetenzen erkennen\, ansprechen und unterstützen \n\n\n\nLaut einer aktuellen Studie der Universität Hamburg (LEO 2018) leben in Deutschland etwa 6\,2 Millionen Erwachsene (12\,1%)\, die über geringe Lese- und Schreibkompetenzen verfügen. Das ist vielen nicht bekannt\, denn geringe Literalität ist ein in der Gesellschaft tabuisiertes Problem. Betroffene entwickeln meist Strategien\, um ihre Defizite zu verbergen\, z.B. delegieren sie alles Schriftliche an andere Personen. \n\n\n\nWas kann ich als pädagogische Fachkraft oder beratende Person tun\, um Betroffenen Zugang zu Informationen und eine damit möglichst umfassende Teilhabe am gesellschaftlichen Leben zu ermöglichen? Woran erkenne ich betroffene Menschen? Wie kann ich sie sensibel und professionell ansprechen\, helfen und unterstützen? Welche Möglichkeiten gibt es\, im Erwachsenenalter Lesen und Schreiben zu lernen? \n\n\n\nInhalte und Ziele der Fortbildung:• Theorie\, Zahlen und Fakten zur Alphabetisierung• Was sind Alpha-Levels und was bedeuten sie?• Welches sind die Ursachen von geringer Literalität?• Woran erkenne ich Betroffene und wie kann ich sie ansprechen?• Einfache Sprache: Hinweise und Empfehlungen für die Sprachvereinfachung in der mündlichen und schriftlichen Kommunikation mit Betroffenen und die einfache Formulierung komplexer Sachverhalte• An welche Stellen/ Bildungsträger kann ich verweisen?• Welche konkreten und aktuellen Angebote gibt es in Aachen/der Städteregion? \n\n\n\nDie Fortbildung richtet sich an Personen in pädagogischen oder in beratenden Berufen\, die sich erstmalig mit geringer Literalität und Alphabetisierung beschäftigen oder ihre Kenntnisse auffrischen möchten. \n\n\n\nDie Fortbildung wird vom Alphanetz NRW gefördert.Die TN-Plätze sind begrenzt\, eine verbindliche Anmeldung ist erforderlich. \n\n\n\nTermin: 10.09.2021Zeit: Freitag von 12 – 17 UhrOrt: vhs Aachen\, Peterstraße 21-25\, Raum 241\, Forum 52062 AachenDozentin: Martina FreibergKursnummer: 211-17007KostenfreiAnmeldung unter Tel.: +49 241-4792-181 oder E-Mail: vhs.anmeldung@mail.aachen.de \nWeitere Informationen \n   \n\n\n\n\n\n\n\n\n\n\n\n\n     Sie sehen gerade einen Platzhalterinhalt von Google Maps. Um auf den eigentlichen Inhalt zuzugreifen\, klicken Sie auf die Schaltfläche unten. Bitte beachten Sie\, dass dabei Daten an Drittanbieter weitergegeben werden.  Mehr Informationen   Inhalt entsperren Erforderlichen Service akzeptieren und Inhalte entsperren
URL:https://alphanetz-nrw.de/veranstaltung/leben-mit-geringer-literalitaet/
LOCATION:vhs Aachen
CATEGORIES:Sensibilisierungsschulungen
END:VEVENT
END:VCALENDAR