BEGIN:VCALENDAR
VERSION:2.0
PRODID:-//Alphanetz NRW - ECPv6.15.13//NONSGML v1.0//EN
CALSCALE:GREGORIAN
METHOD:PUBLISH
X-WR-CALNAME:Alphanetz NRW
X-ORIGINAL-URL:https://alphanetz-nrw.de
X-WR-CALDESC:Veranstaltungen für Alphanetz NRW
REFRESH-INTERVAL;VALUE=DURATION:PT1H
X-Robots-Tag:noindex
X-PUBLISHED-TTL:PT1H
BEGIN:VTIMEZONE
TZID:Europe/Berlin
BEGIN:DAYLIGHT
TZOFFSETFROM:+0100
TZOFFSETTO:+0200
TZNAME:CEST
DTSTART:20210328T010000
END:DAYLIGHT
BEGIN:STANDARD
TZOFFSETFROM:+0200
TZOFFSETTO:+0100
TZNAME:CET
DTSTART:20211031T010000
END:STANDARD
BEGIN:DAYLIGHT
TZOFFSETFROM:+0100
TZOFFSETTO:+0200
TZNAME:CEST
DTSTART:20220327T010000
END:DAYLIGHT
BEGIN:STANDARD
TZOFFSETFROM:+0200
TZOFFSETTO:+0100
TZNAME:CET
DTSTART:20221030T010000
END:STANDARD
BEGIN:DAYLIGHT
TZOFFSETFROM:+0100
TZOFFSETTO:+0200
TZNAME:CEST
DTSTART:20230326T010000
END:DAYLIGHT
BEGIN:STANDARD
TZOFFSETFROM:+0200
TZOFFSETTO:+0100
TZNAME:CET
DTSTART:20231029T010000
END:STANDARD
END:VTIMEZONE
BEGIN:VEVENT
DTSTART;TZID=Europe/Berlin:20220517T120000
DTEND;TZID=Europe/Berlin:20220517T130000
DTSTAMP:20260422T162405
CREATED:20220512T112747Z
LAST-MODIFIED:20220512T113150Z
UID:6407-1652788800-1652792400@alphanetz-nrw.de
SUMMARY:Medienkompetenz einfach für alle vermitteln.Medienkompetenz für schwer erreichbare Zielgruppen
DESCRIPTION:Unter dem Titel „Medienkompetenz für alle – Digitale Partizipation fördern“ setzt der Landesverband der Volkshochschulen das im Frühjahr 2021 begonnene Format des digitalen Wissenschaft-Praxis-Dialogs zum Thema Medienkompetenz fort. In drei Terminen soll der Schwerpunkt dabei auf die Medienkompetenzvermittlung für unterschiedliche Zielgruppen gelegt werden. Gemeinsam mit Expert*innen aus Wissenschaft und Weiterbildung soll der Dialog dazu fortgesetzt werden\, wie die Volkshochschulen ihrem Auftrag der Medienkompetenzförderung für alle gerecht werden können. \n\n\n\nDer Landesverband der Volkshochschulen von NRW e.V. lädt zur zweiten Veranstaltung der digitalen Reihe ein: \n\n\n\nDigitaler Wissenschaft-Praxis-Dialog \n\n\n\n„Medienkompetenz einfach für alle vermitteln.Medienkompetenz für schwer erreichbare Zielgruppen“mit Prof. Dr. Henrike Friedrichs-Liesenkötter | Leuphana Universität Lüneburg \n\n\n\nam 17. Mai 2022 von 12:00 bis 13:00 Uhronline über Zoom \n\n\n\nInhalte und Ablauf: Im Rahmen der Veranstaltung thematisiert Frau Prof. Dr. Henrike Friedrichs-Liesenkötter von der Leuphana Universität Lüneburg in einem Impulsvortrag das Thema der Medienkompetenzförderung für schwer erreichbare Zielgruppen. Im Anschluss an den wissenschaftlichen Impuls folgt eine digitale Podiumsdiskussion mit Vertreter*innen aus der vhs-Praxis\, in Rahmen derer sich ebenso alle Teilnehmenden über den Chat einbringen können. \n\n\n\nWeitere Termine: In der dritten Veranstaltung der Reihe wird das Thema der Medienkompetenz für Jugendliche („Medienkompetenzvermittlung für digital natives“\, TBA) im Fokus stehen. Inhaltliche und organisatorische Informationen bezüglich der Veranstaltungen erhalten Sie demnächst per Mail. \n\n\n\nZielgruppe: Das Angebot richtet sich vorrangig an interessiertes hauptamtliches pädagogisches Personal der Volkshochschulen in NRW\, unabhängig von der Verantwortung für einen bestimmten vhs-Programmbereich. Wir bitten Sie\, diese Einladung an interessierte Kolleg*innen innerhalb Ihrer Volkshochschule weiterzuleiten. \n\n\n\nAnmeldung: Eine Teilnahme an allen oder einzelnen Terminen ist grundsätzlich möglich. Die Teilnahme ist kostenlos. Die Online-Veranstaltungen werden über das Videokonferenztool Zoom angeboten. Die Zugangsdaten zu den jeweiligen Konferenzräumen erhalten Sie in einer gesonderten E-Mail. Für die Organisation der Sitzungen bitten wir Interessierte vorab um frühzeitige Anmeldung bis zum 13. Mai 2022. \n\n\n\nUnter diesem Link können sich Interessierte ab sofort für die zweite Veranstaltung des digitalen Wissenschaft-Praxis-Dialogs anmelden. \n\n\n\nKontakt:Kontakt für inhaltliche Rückfragen: Anna Hutnik | hutnik@vhs-nrw.de und Arne Cremer | cremer@vhs-nrw.deKontakt für organisatorische Fragen | Technischer Support: Monika Bothen | bothen@vhs-nrw.de
URL:https://alphanetz-nrw.de/veranstaltung/medienkompetenz-einfach-fuer-alle-vermitteln-medienkompetenz-fuer-schwer-erreichbare-zielgruppen/
CATEGORIES:Fachveranstaltungen
END:VEVENT
END:VCALENDAR