BEGIN:VCALENDAR
VERSION:2.0
PRODID:-//Alphanetz NRW - ECPv6.15.13//NONSGML v1.0//EN
CALSCALE:GREGORIAN
METHOD:PUBLISH
X-WR-CALNAME:Alphanetz NRW
X-ORIGINAL-URL:https://alphanetz-nrw.de
X-WR-CALDESC:Veranstaltungen für Alphanetz NRW
REFRESH-INTERVAL;VALUE=DURATION:PT1H
X-Robots-Tag:noindex
X-PUBLISHED-TTL:PT1H
BEGIN:VTIMEZONE
TZID:Europe/Berlin
BEGIN:DAYLIGHT
TZOFFSETFROM:+0100
TZOFFSETTO:+0200
TZNAME:CEST
DTSTART:20240331T010000
END:DAYLIGHT
BEGIN:STANDARD
TZOFFSETFROM:+0200
TZOFFSETTO:+0100
TZNAME:CET
DTSTART:20241027T010000
END:STANDARD
BEGIN:DAYLIGHT
TZOFFSETFROM:+0100
TZOFFSETTO:+0200
TZNAME:CEST
DTSTART:20250330T010000
END:DAYLIGHT
BEGIN:STANDARD
TZOFFSETFROM:+0200
TZOFFSETTO:+0100
TZNAME:CET
DTSTART:20251026T010000
END:STANDARD
BEGIN:DAYLIGHT
TZOFFSETFROM:+0100
TZOFFSETTO:+0200
TZNAME:CEST
DTSTART:20260329T010000
END:DAYLIGHT
BEGIN:STANDARD
TZOFFSETFROM:+0200
TZOFFSETTO:+0100
TZNAME:CET
DTSTART:20261025T010000
END:STANDARD
END:VTIMEZONE
BEGIN:VEVENT
DTSTART;TZID=Europe/Berlin:20251113T150000
DTEND;TZID=Europe/Berlin:20251113T173000
DTSTAMP:20260424T140214
CREATED:20251009T145656Z
LAST-MODIFIED:20251009T145721Z
UID:10102-1763046000-1763055000@alphanetz-nrw.de
SUMMARY:Einführung in das vhs-Lernportal für Lehrkräfte und Lernbegleiter/-innen
DESCRIPTION:Sie erhalten einen Überblick über das Angebot des vhs-Lernportals und lernen Funktionen aus der Lernenden-Perspektive kennen. Zudem erfahren Sie mögliche Einsatzszenarien und Tipps für einen guten Start im Unterricht oder der Lernbegleitung. \n\n\n\nDatum:  13.11.2025\, 15:00 bis 17:30 Uhr\n\n\nProjekte\n LernPORTAL\nAkteure\n Deutscher Volkshochschul-Verband e. V. (DVV)\n\nIn der Schulung erhalten Sie einen Überblick über die Lernbereiche\, Kurse und Funktionen im vhs-Lernportal. Sie legen Ihren persönlichen Account für Lernende an und lernen das Portal aus dieser Perspektive kennen. Darüber hinaus erfahren Sie mehr über mögliche Einsatzszenarien und erhalten Tipps für einen erfolgreichen Start im Unterricht oder in der Lernbegleitung. \nWeitere Informationen\nFür die Teilnahme sind keine Vorkenntnisse des vhs-Lernportals erforderlich. \nSie besitzen bereits einen Account für Lernende ODER haben für diesen eine E-Mail-Adresse oder Mobilnummer griffbereit\, über die Sie noch nicht im System registriert sind. \nAnmeldung\nEine Anmeldung ist über folgenden Link notwendig. \nVeranstalter\nvhs-Lernportal
URL:https://alphanetz-nrw.de/veranstaltung/10102/
LOCATION:Onine
CATEGORIES:Schulung/Seminar
END:VEVENT
END:VCALENDAR